BEGIN:VCALENDAR
VERSION:2.0
PRODID:-//SSVK School - ECPv6.15.20//NONSGML v1.0//EN
CALSCALE:GREGORIAN
METHOD:PUBLISH
X-ORIGINAL-URL:https://ssvkschool.com
X-WR-CALDESC:Events for SSVK School
REFRESH-INTERVAL;VALUE=DURATION:PT1H
X-Robots-Tag:noindex
X-PUBLISHED-TTL:PT1H
BEGIN:VTIMEZONE
TZID:Asia/Kolkata
BEGIN:STANDARD
TZOFFSETFROM:+0530
TZOFFSETTO:+0530
TZNAME:IST
DTSTART:20250101T000000
END:STANDARD
END:VTIMEZONE
BEGIN:VEVENT
DTSTART;TZID=Asia/Kolkata:20260209T080000
DTEND;TZID=Asia/Kolkata:20260209T170000
DTSTAMP:20260424T011656
CREATED:20250718T084647Z
LAST-MODIFIED:20250718T084647Z
UID:17359-1770624000-1770656400@ssvkschool.com
SUMMARY:III Mid Term Test Begins
DESCRIPTION:
URL:https://ssvkschool.com/event/iii-mid-term-test-begins/
END:VEVENT
BEGIN:VEVENT
DTSTART;TZID=Asia/Kolkata:20260216T080000
DTEND;TZID=Asia/Kolkata:20260216T170000
DTSTAMP:20260424T011656
CREATED:20250718T084817Z
LAST-MODIFIED:20250718T084817Z
UID:17354-1771228800-1771261200@ssvkschool.com
SUMMARY:Maha Sivaratri
DESCRIPTION:
URL:https://ssvkschool.com/event/maha-sivaratri/
END:VEVENT
BEGIN:VEVENT
DTSTART;TZID=Asia/Kolkata:20260217T080000
DTEND;TZID=Asia/Kolkata:20260217T170000
DTSTAMP:20260424T011656
CREATED:20250718T084844Z
LAST-MODIFIED:20250718T084844Z
UID:17371-1771315200-1771347600@ssvkschool.com
SUMMARY:III Mid Term Test Ends
DESCRIPTION:
URL:https://ssvkschool.com/event/iii-mid-term-test-ends/
END:VEVENT
BEGIN:VEVENT
DTSTART;TZID=Asia/Kolkata:20260223T080000
DTEND;TZID=Asia/Kolkata:20260223T170000
DTSTAMP:20260424T011656
CREATED:20250718T084903Z
LAST-MODIFIED:20250718T084903Z
UID:17372-1771833600-1771866000@ssvkschool.com
SUMMARY:PTA Meeting
DESCRIPTION:
URL:https://ssvkschool.com/event/pta-meeting-4/
END:VEVENT
BEGIN:VEVENT
DTSTART;TZID=Asia/Kolkata:20260225T080000
DTEND;TZID=Asia/Kolkata:20260225T170000
DTSTAMP:20260424T011656
CREATED:20250718T084934Z
LAST-MODIFIED:20250718T084934Z
UID:17373-1772006400-1772038800@ssvkschool.com
SUMMARY:Vijayendra Saraswathi Swamigal Jayanthi(Birthday)
DESCRIPTION:
URL:https://ssvkschool.com/event/vijayendra-saraswathi-swamigal-jayanthibirthday/
END:VEVENT
END:VCALENDAR