BEGIN:VCALENDAR
VERSION:2.0
PRODID:-//SSVK School - ECPv6.15.20//NONSGML v1.0//EN
CALSCALE:GREGORIAN
METHOD:PUBLISH
X-ORIGINAL-URL:https://ssvkschool.com
X-WR-CALDESC:Events for SSVK School
REFRESH-INTERVAL;VALUE=DURATION:PT1H
X-Robots-Tag:noindex
X-PUBLISHED-TTL:PT1H
BEGIN:VTIMEZONE
TZID:Asia/Kolkata
BEGIN:STANDARD
TZOFFSETFROM:+0530
TZOFFSETTO:+0530
TZNAME:IST
DTSTART:20250101T000000
END:STANDARD
END:VTIMEZONE
BEGIN:VEVENT
DTSTART;TZID=Asia/Kolkata:20260512T080000
DTEND;TZID=Asia/Kolkata:20260512T170000
DTSTAMP:20260424T043308
CREATED:20250718T085413Z
LAST-MODIFIED:20250718T085413Z
UID:17396-1778572800-1778605200@ssvkschool.com
SUMMARY:Mahapenyavar Jayanthi(Birthday)
DESCRIPTION:
URL:https://ssvkschool.com/event/mahapenyavar-jayanthibirthday/
END:VEVENT
BEGIN:VEVENT
DTSTART;TZID=Asia/Kolkata:20260527T080000
DTEND;TZID=Asia/Kolkata:20260527T170000
DTSTAMP:20260424T043308
CREATED:20250718T085453Z
LAST-MODIFIED:20250718T085453Z
UID:17400-1779868800-1779901200@ssvkschool.com
SUMMARY:Bakrid
DESCRIPTION:
URL:https://ssvkschool.com/event/bakrid/
END:VEVENT
END:VCALENDAR