BEGIN:VCALENDAR
VERSION:2.0
PRODID:-//SSVK School - ECPv6.15.20//NONSGML v1.0//EN
CALSCALE:GREGORIAN
METHOD:PUBLISH
X-WR-CALNAME:SSVK School
X-ORIGINAL-URL:https://ssvkschool.com
X-WR-CALDESC:Events for SSVK School
REFRESH-INTERVAL;VALUE=DURATION:PT1H
X-Robots-Tag:noindex
X-PUBLISHED-TTL:PT1H
BEGIN:VTIMEZONE
TZID:Asia/Kolkata
BEGIN:STANDARD
TZOFFSETFROM:+0530
TZOFFSETTO:+0530
TZNAME:IST
DTSTART:20240101T000000
END:STANDARD
END:VTIMEZONE
BEGIN:VEVENT
DTSTART;TZID=Asia/Kolkata:20260216T080000
DTEND;TZID=Asia/Kolkata:20260216T170000
DTSTAMP:20260424T044936
CREATED:20250718T084817Z
LAST-MODIFIED:20250718T084817Z
UID:17354-1771228800-1771261200@ssvkschool.com
SUMMARY:Maha Sivaratri
DESCRIPTION:
URL:https://ssvkschool.com/event/maha-sivaratri/
END:VEVENT
BEGIN:VEVENT
DTSTART;TZID=Asia/Kolkata:20260209T080000
DTEND;TZID=Asia/Kolkata:20260209T170000
DTSTAMP:20260424T044936
CREATED:20250718T084647Z
LAST-MODIFIED:20250718T084647Z
UID:17359-1770624000-1770656400@ssvkschool.com
SUMMARY:III Mid Term Test Begins
DESCRIPTION:
URL:https://ssvkschool.com/event/iii-mid-term-test-begins/
END:VEVENT
BEGIN:VEVENT
DTSTART;TZID=Asia/Kolkata:20260126T080000
DTEND;TZID=Asia/Kolkata:20260126T170000
DTSTAMP:20260424T044936
CREATED:20250718T084620Z
LAST-MODIFIED:20250718T084620Z
UID:17358-1769414400-1769446800@ssvkschool.com
SUMMARY:Republic Day/Blood Donation
DESCRIPTION:
URL:https://ssvkschool.com/event/republic-day-blood-donation/
END:VEVENT
BEGIN:VEVENT
DTSTART;TZID=Asia/Kolkata:20260116T080000
DTEND;TZID=Asia/Kolkata:20260116T170000
DTSTAMP:20260424T044936
CREATED:20250718T084553Z
LAST-MODIFIED:20250718T084553Z
UID:17357-1768550400-1768582800@ssvkschool.com
SUMMARY:Uzhavar Thirunal
DESCRIPTION:
URL:https://ssvkschool.com/event/uzhavar-thirunal/
END:VEVENT
BEGIN:VEVENT
DTSTART;TZID=Asia/Kolkata:20260115T080000
DTEND;TZID=Asia/Kolkata:20260115T170000
DTSTAMP:20260424T044936
CREATED:20250718T084529Z
LAST-MODIFIED:20250718T084529Z
UID:17356-1768464000-1768496400@ssvkschool.com
SUMMARY:Thiruvaluvar Day
DESCRIPTION:
URL:https://ssvkschool.com/event/thiruvaluvar-day/
END:VEVENT
BEGIN:VEVENT
DTSTART;VALUE=DATE:20260114
DTEND;VALUE=DATE:20260115
DTSTAMP:20260424T044936
CREATED:20250718T084506Z
LAST-MODIFIED:20250718T084506Z
UID:17353-1768348800-1768435199@ssvkschool.com
SUMMARY:Pongal
DESCRIPTION:
URL:https://ssvkschool.com/event/pongal/
END:VEVENT
BEGIN:VEVENT
DTSTART;TZID=Asia/Kolkata:20260113T080000
DTEND;TZID=Asia/Kolkata:20260113T170000
DTSTAMP:20260424T044936
CREATED:20250718T084449Z
LAST-MODIFIED:20250718T084449Z
UID:17352-1768291200-1768323600@ssvkschool.com
SUMMARY:Bhogi
DESCRIPTION:
URL:https://ssvkschool.com/event/bhogi/
END:VEVENT
BEGIN:VEVENT
DTSTART;TZID=Asia/Kolkata:20260112T080000
DTEND;TZID=Asia/Kolkata:20260112T170000
DTSTAMP:20260424T044936
CREATED:20250718T084435Z
LAST-MODIFIED:20250718T084435Z
UID:17351-1768204800-1768237200@ssvkschool.com
SUMMARY:Financial Literacy Pongal Celebration
DESCRIPTION:
URL:https://ssvkschool.com/event/financial-literacy-pongal-celebration/
END:VEVENT
BEGIN:VEVENT
DTSTART;TZID=Asia/Kolkata:20260108T080000
DTEND;TZID=Asia/Kolkata:20260108T170000
DTSTAMP:20260424T044936
CREATED:20250718T084335Z
LAST-MODIFIED:20250718T084335Z
UID:17350-1767859200-1767891600@ssvkschool.com
SUMMARY:Maha Periyava Aradhana
DESCRIPTION:
URL:https://ssvkschool.com/event/maha-periyava-aradhana/
END:VEVENT
BEGIN:VEVENT
DTSTART;TZID=Asia/Kolkata:20260107T080000
DTEND;TZID=Asia/Kolkata:20260107T170000
DTSTAMP:20260424T044936
CREATED:20250718T084310Z
LAST-MODIFIED:20250718T084310Z
UID:17348-1767772800-1767805200@ssvkschool.com
SUMMARY:PTA Meeting
DESCRIPTION:
URL:https://ssvkschool.com/event/pta-meeting-3/
END:VEVENT
BEGIN:VEVENT
DTSTART;TZID=Asia/Kolkata:20260103T080000
DTEND;TZID=Asia/Kolkata:20260103T170000
DTSTAMP:20260424T044936
CREATED:20250718T084251Z
LAST-MODIFIED:20250718T084251Z
UID:17347-1767427200-1767459600@ssvkschool.com
SUMMARY:Veedhi Bhajan
DESCRIPTION:
URL:https://ssvkschool.com/event/veedhi-bhajan/
END:VEVENT
BEGIN:VEVENT
DTSTART;TZID=Asia/Kolkata:20260102T080000
DTEND;TZID=Asia/Kolkata:20260102T170000
DTSTAMP:20260424T044936
CREATED:20250718T084229Z
LAST-MODIFIED:20250718T084229Z
UID:17346-1767340800-1767373200@ssvkschool.com
SUMMARY:School Re-Open III Term
DESCRIPTION:
URL:https://ssvkschool.com/event/school-re-open-iii-term/
END:VEVENT
BEGIN:VEVENT
DTSTART;TZID=Asia/Kolkata:20251227T080000
DTEND;TZID=Asia/Kolkata:20251227T170000
DTSTAMP:20260424T044936
CREATED:20250718T084123Z
LAST-MODIFIED:20250718T084123Z
UID:17345-1766822400-1766854800@ssvkschool.com
SUMMARY:Jayandra Saraswathi Swamigal Aradhana
DESCRIPTION:
URL:https://ssvkschool.com/event/jayandra-saraswathi-swamigal-aradhana/
END:VEVENT
BEGIN:VEVENT
DTSTART;TZID=Asia/Kolkata:20251225T080000
DTEND;TZID=Asia/Kolkata:20251225T170000
DTSTAMP:20260424T044936
CREATED:20250718T084028Z
LAST-MODIFIED:20250718T084028Z
UID:17344-1766649600-1766682000@ssvkschool.com
SUMMARY:Christmas
DESCRIPTION:
URL:https://ssvkschool.com/event/christmas/
END:VEVENT
BEGIN:VEVENT
DTSTART;TZID=Asia/Kolkata:20251220T080000
DTEND;TZID=Asia/Kolkata:20251220T170000
DTSTAMP:20260424T044936
CREATED:20250718T083919Z
LAST-MODIFIED:20250718T083919Z
UID:17335-1766217600-1766250000@ssvkschool.com
SUMMARY:Half-Yearly Examination Ends
DESCRIPTION:
URL:https://ssvkschool.com/event/half-yearly-examination-ends/
END:VEVENT
BEGIN:VEVENT
DTSTART;TZID=Asia/Kolkata:20251219T080000
DTEND;TZID=Asia/Kolkata:20251219T170000
DTSTAMP:20260424T044936
CREATED:20250718T083849Z
LAST-MODIFIED:20250718T083849Z
UID:17333-1766131200-1766163600@ssvkschool.com
SUMMARY:Kolam Competition
DESCRIPTION:
URL:https://ssvkschool.com/event/kolam-competition/
END:VEVENT
BEGIN:VEVENT
DTSTART;TZID=Asia/Kolkata:20251205T080000
DTEND;TZID=Asia/Kolkata:20251205T170000
DTSTAMP:20260424T044936
CREATED:20250718T083736Z
LAST-MODIFIED:20250718T083736Z
UID:17331-1764921600-1764954000@ssvkschool.com
SUMMARY:Mask Day
DESCRIPTION:
URL:https://ssvkschool.com/event/mask-day/
END:VEVENT
BEGIN:VEVENT
DTSTART;TZID=Asia/Kolkata:20251204T080000
DTEND;TZID=Asia/Kolkata:20251204T170000
DTSTAMP:20260424T044936
CREATED:20250718T083715Z
LAST-MODIFIED:20250718T083715Z
UID:17329-1764835200-1764867600@ssvkschool.com
SUMMARY:Karthigai Deepam
DESCRIPTION:
URL:https://ssvkschool.com/event/karthigai-deepam/
END:VEVENT
BEGIN:VEVENT
DTSTART;TZID=Asia/Kolkata:20251203T080000
DTEND;TZID=Asia/Kolkata:20251203T170000
DTSTAMP:20260424T044936
CREATED:20250718T083646Z
LAST-MODIFIED:20250718T083646Z
UID:17328-1764748800-1764781200@ssvkschool.com
SUMMARY:Thirupavai Thiruvem Bavai
DESCRIPTION:
URL:https://ssvkschool.com/event/thirupavai-thiruvem-bavai/
END:VEVENT
BEGIN:VEVENT
DTSTART;TZID=Asia/Kolkata:20251129T080000
DTEND;TZID=Asia/Kolkata:20251129T170000
DTSTAMP:20260424T044936
CREATED:20250718T083603Z
LAST-MODIFIED:20250718T083603Z
UID:17327-1764403200-1764435600@ssvkschool.com
SUMMARY:PTA Meeting
DESCRIPTION:
URL:https://ssvkschool.com/event/pta-meeting-2/
END:VEVENT
BEGIN:VEVENT
DTSTART;TZID=Asia/Kolkata:20251126T080000
DTEND;TZID=Asia/Kolkata:20251126T170000
DTSTAMP:20260424T044936
CREATED:20250718T083546Z
LAST-MODIFIED:20250718T083546Z
UID:17326-1764144000-1764176400@ssvkschool.com
SUMMARY:II Mid Term Test Ends
DESCRIPTION:
URL:https://ssvkschool.com/event/ii-mid-term-test-ends/
END:VEVENT
BEGIN:VEVENT
DTSTART;TZID=Asia/Kolkata:20251117T080000
DTEND;TZID=Asia/Kolkata:20251117T170000
DTSTAMP:20260424T044936
CREATED:20250718T083525Z
LAST-MODIFIED:20250718T083525Z
UID:17325-1763366400-1763398800@ssvkschool.com
SUMMARY:II Mid Term Test Begins
DESCRIPTION:
URL:https://ssvkschool.com/event/ii-mid-term-test-begins/
END:VEVENT
BEGIN:VEVENT
DTSTART;TZID=Asia/Kolkata:20251114T080000
DTEND;TZID=Asia/Kolkata:20251114T170000
DTSTAMP:20260424T044936
CREATED:20250718T083453Z
LAST-MODIFIED:20250718T083453Z
UID:17324-1763107200-1763139600@ssvkschool.com
SUMMARY:Children's Day
DESCRIPTION:
URL:https://ssvkschool.com/event/childrens-day/
END:VEVENT
BEGIN:VEVENT
DTSTART;TZID=Asia/Kolkata:20251113T080000
DTEND;TZID=Asia/Kolkata:20251113T170000
DTSTAMP:20260424T044936
CREATED:20250718T083348Z
LAST-MODIFIED:20250718T083348Z
UID:17315-1763020800-1763053200@ssvkschool.com
SUMMARY:Vegtable & Fruits Day
DESCRIPTION:
URL:https://ssvkschool.com/event/vegtable-fruits-day/
END:VEVENT
BEGIN:VEVENT
DTSTART;TZID=Asia/Kolkata:20251110T080000
DTEND;TZID=Asia/Kolkata:20251110T170000
DTSTAMP:20260424T044936
CREATED:20250718T083809Z
LAST-MODIFIED:20250718T083809Z
UID:17332-1762761600-1762794000@ssvkschool.com
SUMMARY:Half-Yearly Examination Begins
DESCRIPTION:
URL:https://ssvkschool.com/event/half-yearly-examination-begins/
END:VEVENT
BEGIN:VEVENT
DTSTART;TZID=Asia/Kolkata:20251020T080000
DTEND;TZID=Asia/Kolkata:20251020T170000
DTSTAMP:20260424T044936
CREATED:20250718T083250Z
LAST-MODIFIED:20250718T083250Z
UID:17314-1760947200-1760979600@ssvkschool.com
SUMMARY:Deepavali Kedara Gowri Varudham
DESCRIPTION:
URL:https://ssvkschool.com/event/deepavali-kedara-gowri-varudham/
END:VEVENT
BEGIN:VEVENT
DTSTART;TZID=Asia/Kolkata:20251007T080000
DTEND;TZID=Asia/Kolkata:20251007T170000
DTSTAMP:20260424T044936
CREATED:20250718T083157Z
LAST-MODIFIED:20250718T083157Z
UID:17312-1759824000-1759856400@ssvkschool.com
SUMMARY:Talent Fest
DESCRIPTION:
URL:https://ssvkschool.com/event/talent-fest/
END:VEVENT
BEGIN:VEVENT
DTSTART;TZID=Asia/Kolkata:20251003T080000
DTEND;TZID=Asia/Kolkata:20251003T170000
DTSTAMP:20260424T044936
CREATED:20250718T083133Z
LAST-MODIFIED:20250718T083133Z
UID:17311-1759478400-1759510800@ssvkschool.com
SUMMARY:School Re-Opens
DESCRIPTION:
URL:https://ssvkschool.com/event/school-re-opens/
END:VEVENT
BEGIN:VEVENT
DTSTART;TZID=Asia/Kolkata:20251002T080000
DTEND;TZID=Asia/Kolkata:20251002T170000
DTSTAMP:20260424T044936
CREATED:20250718T083109Z
LAST-MODIFIED:20250718T083109Z
UID:17310-1759392000-1759424400@ssvkschool.com
SUMMARY:Akshan Gandhi Jayanthi Vijaya Dashami Aksharabhyasam
DESCRIPTION:
URL:https://ssvkschool.com/event/akshan-gandhi-jayanthi-vijaya-dashami-aksharabhyasam/
END:VEVENT
BEGIN:VEVENT
DTSTART;TZID=Asia/Kolkata:20251001T080000
DTEND;TZID=Asia/Kolkata:20251001T170000
DTSTAMP:20260424T044936
CREATED:20250718T083002Z
LAST-MODIFIED:20250718T083002Z
UID:17309-1759305600-1759338000@ssvkschool.com
SUMMARY:Ayudha Poojai
DESCRIPTION:
URL:https://ssvkschool.com/event/ayudha-poojai/
END:VEVENT
END:VCALENDAR