BEGIN:VCALENDAR
VERSION:2.0
PRODID:-//SSVK School - ECPv6.15.20//NONSGML v1.0//EN
CALSCALE:GREGORIAN
METHOD:PUBLISH
X-ORIGINAL-URL:https://ssvkschool.com
X-WR-CALDESC:Events for SSVK School
REFRESH-INTERVAL;VALUE=DURATION:PT1H
X-Robots-Tag:noindex
X-PUBLISHED-TTL:PT1H
BEGIN:VTIMEZONE
TZID:Asia/Kolkata
BEGIN:STANDARD
TZOFFSETFROM:+0530
TZOFFSETTO:+0530
TZNAME:IST
DTSTART:20250101T000000
END:STANDARD
END:VTIMEZONE
BEGIN:VEVENT
DTSTART;TZID=Asia/Kolkata:20260410T080000
DTEND;TZID=Asia/Kolkata:20260410T170000
DTSTAMP:20260423T234503
CREATED:20250718T085242Z
LAST-MODIFIED:20250718T085242Z
UID:17384-1775808000-1775840400@ssvkschool.com
SUMMARY:Annual Examination Ends
DESCRIPTION:
URL:https://ssvkschool.com/event/annual-examination-ends/
END:VEVENT
END:VCALENDAR